BEGIN:VCALENDAR
VERSION:2.0
PRODID:-//Longship Armoury LLC - ECPv6.9.0//NONSGML v1.0//EN
CALSCALE:GREGORIAN
METHOD:PUBLISH
X-WR-CALNAME:Longship Armoury LLC
X-ORIGINAL-URL:https://longshiparmoury.com
X-WR-CALDESC:Events for Longship Armoury LLC
REFRESH-INTERVAL;VALUE=DURATION:PT1H
X-Robots-Tag:noindex
X-PUBLISHED-TTL:PT1H
BEGIN:VTIMEZONE
TZID:America/New_York
BEGIN:DAYLIGHT
TZOFFSETFROM:-0500
TZOFFSETTO:-0400
TZNAME:EDT
DTSTART:20210314T070000
END:DAYLIGHT
BEGIN:STANDARD
TZOFFSETFROM:-0400
TZOFFSETTO:-0500
TZNAME:EST
DTSTART:20211107T060000
END:STANDARD
END:VTIMEZONE
BEGIN:VEVENT
DTSTART;TZID=America/New_York:20210604T120000
DTEND;TZID=America/New_York:20210606T140000
DTSTAMP:20260423T152301
CREATED:20200731T202456Z
LAST-MODIFIED:20200731T202456Z
UID:1532-1622808000-1622988000@longshiparmoury.com
SUMMARY:Blade Show 2021
DESCRIPTION:Welcome to BLADE Show\, brought to you by the editors of BLADE Magazine—the world’s #1 knife community and publication. Globally-recognized exhibitors and legendary makers gather under one roof to introduce you to the largest selection of blades\, knives\, and outdoor gear and accessories in the world. Shop hundreds of exhibitors and hold the world’s best knives. You’ll find the newest blades\, one-of-a-kind collectors knives\, antique swords and much more along with browsing the equipment and materials used to make them. Attend the free after-party each night in the Blade Show Pit where food and drinks are available. Take one of our BLADE University knife education classes or watch a free demo including the BLADE Show World Championship Cutting Competition\, Balisong Flipping Championships\, knife sharpening\, collecting seminars\, self-defense classes & much more. We hope you join us and the rest of the BLADE Community for the biggest knife event in the world.
URL:https://longshiparmoury.com/event/blade-show-2021/
LOCATION:Cobb Galleria Centre\, 2 Galleria Pkwy SE\, Atlanta\, NJ\, 30339\, United States
ATTACH;FMTTYPE=image/jpeg:https://longshiparmoury.com/wp-content/uploads/2020/07/bladeshow.jpg
ORGANIZER;CN="Caribou Media Group":MAILTO:Blade@bladeshow.com
END:VEVENT
END:VCALENDAR